BEGIN:VCALENDAR
VERSION:2.0
PRODID:-//CoWork Street - ECPv4.6.22.1//NONSGML v1.0//EN
CALSCALE:GREGORIAN
METHOD:PUBLISH
X-WR-CALNAME:CoWork Street
X-ORIGINAL-URL:http://coworkstreet.com
X-WR-CALDESC:Events for CoWork Street
BEGIN:VEVENT
DTSTART;TZID=America/Chicago:20190731T173000
DTEND;TZID=America/Chicago:20190731T193000
DTSTAMP:20260423T190237
CREATED:20190703T195046Z
LAST-MODIFIED:20190703T195157Z
UID:886-1564594200-1564601400@coworkstreet.com
SUMMARY:Audacious Women Networking Event
DESCRIPTION:
URL:http://coworkstreet.com/event/audacious-women-networking-event-2/
LOCATION:CoWork Street\, 227-229 Market St. Suite B & C\, Camden\, NJ\, 08102\, United States
END:VEVENT
END:VCALENDAR