BEGIN:VCALENDAR
VERSION:2.0
PRODID:-//CoWork Street - ECPv4.6.22.1//NONSGML v1.0//EN
CALSCALE:GREGORIAN
METHOD:PUBLISH
X-WR-CALNAME:CoWork Street
X-ORIGINAL-URL:http://coworkstreet.com
X-WR-CALDESC:Events for CoWork Street
BEGIN:VEVENT
DTSTART;TZID=America/Chicago:20180917T190000
DTEND;TZID=America/Chicago:20180917T210000
DTSTAMP:20260424T071941
CREATED:20180906T181050Z
LAST-MODIFIED:20180907T011909Z
UID:356-1537210800-1537218000@coworkstreet.com
SUMMARY:Author Darnell L. Moore Book Reception
DESCRIPTION:Reception for the Book Author Darnell L. Moore.  The Book is a beautiful wrought memoir; Darnell tells his story of growing up and coming of age in the City of Camden NJ.  The reception is invite ONLY \n
URL:http://coworkstreet.com/event/author-darnell-l-moore-book-reception/
LOCATION:CoWork Street\, 227-229 Market St. Suite B & C\, Camden\, NJ\, 08102\, United States
END:VEVENT
END:VCALENDAR