BEGIN:VCALENDAR
VERSION:2.0
PRODID:-//CoWork Street - ECPv4.6.22.1//NONSGML v1.0//EN
CALSCALE:GREGORIAN
METHOD:PUBLISH
X-WR-CALNAME:CoWork Street
X-ORIGINAL-URL:http://coworkstreet.com
X-WR-CALDESC:Events for CoWork Street
BEGIN:VEVENT
DTSTART;TZID=America/Chicago:20181115T180000
DTEND;TZID=America/Chicago:20181115T200000
DTSTAMP:20260424T030519
CREATED:20180906T202638Z
LAST-MODIFIED:20181025T205803Z
UID:410-1542304800-1542312000@coworkstreet.com
SUMMARY:Entrepreneurial Readiness 360 Workshop Series: WS#9 Minority/Women Business Certifications
DESCRIPTION:Entrepreneurial Readiness 360 is designed for aspiring\, new and early growth Influencers and Small Businesses looking for hands-on\, in-depth and interactive instruction to scale up their business. \nEach session of the workshop series will focus on a different aspect of the business start-up\, early stage or scale-up process\, and participants may choose to attend one\, multiple\, or all sessions\, depending on individual needs and interests. The workshops are applicable to all business ventures regardless of industry and will meet your business readiness needs. Register via Eventbrite: https://bit.ly/2EIEL3r \nInstructor:  Anthony Martinez\, MBE/WBE Instructor                                                                                                         Workshop #9:  Minority/Women Owned Business Certifications (with less than 3 years in Business) \n\nWBE/MBE Certification process.  Will also review Veterans and other Applicable Certifications\nHow to streamline Certification\nForm Completion\n\n  \n
URL:http://coworkstreet.com/event/entrepreneurial-readiness-360-workshop-series-ws10-minority-women-business-certifications/
LOCATION:CoWork Street\, 227-229 Market St. Suite B & C\, Camden\, NJ\, 08102\, United States
ORGANIZER;CN="RHC%20Consulting%20Group%2C%20LLC":MAILTO:rhicks@rhcconsultgroup.com
END:VEVENT
END:VCALENDAR