BEGIN:VCALENDAR
VERSION:2.0
PRODID:-//CoWork Street - ECPv4.6.22.1//NONSGML v1.0//EN
CALSCALE:GREGORIAN
METHOD:PUBLISH
X-WR-CALNAME:CoWork Street
X-ORIGINAL-URL:http://coworkstreet.com
X-WR-CALDESC:Events for CoWork Street
BEGIN:VEVENT
DTSTART;TZID=America/Chicago:20181108T180000
DTEND;TZID=America/Chicago:20181108T200000
DTSTAMP:20260424T065036
CREATED:20180906T194315Z
LAST-MODIFIED:20181025T204424Z
UID:396-1541700000-1541707200@coworkstreet.com
SUMMARY:Entrepreneurial Readiness 360 Workshop Series: WS#7 Affordable Business Marketing
DESCRIPTION:Entrepreneurial Readiness 360 is designed for aspiring\, new and early growth Influencers and Small Businesses looking for hands-on\, in-depth and interactive instruction to scale up their business. \nEach session of the workshop series will focus on a different aspect of the business start-up\, early stage or scale-up process\, and participants may choose to attend one\, multiple\, or all sessions\, depending on individual needs and interests. The workshops are applicable to all business ventures regardless of industry and will meet your business readiness needs.  Register via Eventbrite: https://bit.ly/2EILZo0 \nInstructors: Dania Ceruti\, Vania Abdul-Badee\, 360 Marketing & PR                                                                              Workshop #7:  Affordable Business Marketing \n\nSocial Media Curation\nSocial Media Management\nEmail Marketing\nUsing Networking as a Marketing Tool\n\n  \n
URL:http://coworkstreet.com/event/entrepreneurial-readiness-360-workshop-series-ws5-affordable-business-marketing/
LOCATION:CoWork Street\, 227-229 Market St. Suite B & C\, Camden\, NJ\, 08102\, United States
ORGANIZER;CN="RHC%20Consulting%20Group%2C%20LLC":MAILTO:rhicks@rhcconsultgroup.com
END:VEVENT
END:VCALENDAR