BEGIN:VCALENDAR
VERSION:2.0
PRODID:-//CoWork Street - ECPv4.6.22.1//NONSGML v1.0//EN
CALSCALE:GREGORIAN
METHOD:PUBLISH
X-WR-CALNAME:CoWork Street
X-ORIGINAL-URL:http://coworkstreet.com
X-WR-CALDESC:Events for CoWork Street
BEGIN:VEVENT
DTSTART;TZID=America/Chicago:20181101T180000
DTEND;TZID=America/Chicago:20181101T200000
DTSTAMP:20260424T084507
CREATED:20180906T200439Z
LAST-MODIFIED:20181025T204059Z
UID:402-1541095200-1541102400@coworkstreet.com
SUMMARY:Entrepreneurial Readiness Workshop Series: WS#6 Social Media For Startups and Scaleup
DESCRIPTION:Entrepreneurial Readiness 360 is designed for aspiring\, new and early growth Influencers and Small Businesses looking for hands-on\, in-depth and interactive instruction to scale up their business. \nEach session of the workshop series will focus on a different aspect of the business start-up\, early stage or scale-up process\, and participants may choose to attend one\, multiple\, or all sessions\, depending on individual needs and interests. The workshops are applicable to all business ventures regardless of industry and will meet your business readiness needs. Register via Eventbrite https://bit.ly/2CFcY14 \nInstructor:  Yessenia Garcia-Lebron\, HOLA (Helping Organizations Leverage Audiences)                                                                                                                                                                       Workshop #6:  Social Media Analytics and Affordable Website Development Tips \n\nWebsites are a Must\, Here’s Why\nWebsite Setup\nSocial Media Platforms- Which Ones and Setup\nSocial Media Analytics\n\n  \n
URL:http://coworkstreet.com/event/entrepreneurial-readiness-workshop-series-ws7-website-for-startups-and-mico-businesses/
LOCATION:CoWork Street\, 227-229 Market St. Suite B & C\, Camden\, NJ\, 08102\, United States
ORGANIZER;CN="RHC%20Consulting%20Group%2C%20LLC":MAILTO:rhicks@rhcconsultgroup.com
END:VEVENT
END:VCALENDAR