BEGIN:VCALENDAR
VERSION:2.0
PRODID:-//CoWork Street - ECPv4.6.22.1//NONSGML v1.0//EN
CALSCALE:GREGORIAN
METHOD:PUBLISH
X-WR-CALNAME:CoWork Street
X-ORIGINAL-URL:http://coworkstreet.com
X-WR-CALDESC:Events for CoWork Street
BEGIN:VEVENT
DTSTART;TZID=America/New_York:20190611T093000
DTEND;TZID=America/New_York:20190611T113000
DTSTAMP:20260423T231151
CREATED:20190603T222231Z
LAST-MODIFIED:20190603T222835Z
UID:768-1560245400-1560252600@coworkstreet.com
SUMMARY:UCEDC Presents Entrepreneurship Essentials - FREE Workshop
DESCRIPTION:Entrepreneurship Essentials Workshop hosted by UCEDC and CoWork Street.  This FREE workshop will guide you through the assessment process and introduce you to the tools you’ll need to start and grow your business.  You’ll be better prepared to: \n\nIdentify your strengths and weaknesses.\nAssess the feasibility of your business idea.\nConduct market research\, business planning\, financial projections and more.\n\nRegister below: \n\n    Notice: JavaScript is required for this content.\n\n    \n\n\n        \n        \n            var formDisplay = 1;\n\n            /* Maybe initialize nfForms object */\n            var nfForms = nfForms || [];\n\n            /* Build Form Data */\n            var form = [];\n            form.id = '1';\n            form.settings = {"objectType":"Form Setting"\,"editActive":true\,"title":"Contact Form"\,"key":null\,"created_at":"2016-03-16 20:27:29"\,"show_title":"1"\,"clear_complete":"1"\,"hide_complete":"1"\,"currency":"usd"\,"add_submit":"1"\,"logged_in":"0"\,"default_label_pos":"above"\,"wrapper_class":""\,"element_class":""\,"not_logged_in_msg":""\,"sub_limit_number":null\,"sub_limit_msg":""\,"calculations":[]\,"fieldContentsData":[{"label":"Name"\,"key":"name"\,"parent_id":1\,"type":"textbox"\,"created_at":"2016-03-16 20:27:29"\,"objectType":"Field"\,"objectDomain":"fields"\,"editActive":false\,"label_pos":"above"\,"required":1\,"placeholder":""\,"default":""\,"wrapper_class":""\,"element_class":""\,"input_limit":""\,"input_limit_type":"characters"\,"input_limit_message":"Character(s) left"\,"manual_key":""\,"disable_input":""\,"admin_label":""\,"help_text":""\,"desc_text":""\,"desc_pos":""\,"disable_browser_autocomplete":""\,"mask":""\,"custom_mask":""\,"order":1\,"container_class":""\,"input_limit_msg":"Character(s) left"\,"id":1}\,{"label":"Email"\,"key":"email"\,"parent_id":1\,"type":"email"\,"created_at":"2016-03-16 20:27:29"\,"objectType":"Field"\,"objectDomain":"fields"\,"editActive":false\,"label_pos":"above"\,"required":1\,"default":""\,"placeholder":""\,"wrapper_class":""\,"element_class":""\,"admin_label":""\,"help_text":""\,"desc_text":""\,"desc_pos":""\,"order":2\,"container_class":""\,"id":2}\,{"label":"Message"\,"key":"message"\,"parent_id":1\,"type":"textarea"\,"created_at":"2016-03-16 20:27:29"\,"objectType":"Field"\,"objectDomain":"fields"\,"editActive":false\,"label_pos":"above"\,"required":1\,"placeholder":""\,"default":""\,"wrapper_class":""\,"element_class":""\,"input_limit":""\,"input_limit_type":"characters"\,"input_limit_message":"Character(s) left"\,"manual_key":""\,"disable_input":""\,"admin_label":""\,"help_text":""\,"desc_text":""\,"desc_pos":""\,"disable_browser_autocomplete":""\,"textarea_rte":""\,"disable_rte_mobile":""\,"textarea_media":""\,"order":3\,"container_class":""\,"input_limit_msg":"Character(s) left"\,"id":3}\,{"label":"What is thirteen minus 6?"\,"key":"spam_1"\,"parent_id":1\,"type":"spam"\,"created_at":"2016-03-16 20:27:29"\,"objectType":"Field"\,"objectDomain":"fields"\,"editActive":false\,"label_pos":"above"\,"required":1\,"placeholder":""\,"default":""\,"wrapper_class":""\,"element_class":""\,"input_limit":""\,"input_limit_type":"characters"\,"input_limit_message":"Character(s) left"\,"manual_key":1\,"disable_input":""\,"admin_label":""\,"help_text":""\,"desc_text":""\,"desc_pos":""\,"spam_answer":7\,"order":4\,"container_class":""\,"input_limit_msg":"Character(s) left"\,"id":4}\,{"label":"Send"\,"key":"send"\,"parent_id":1\,"type":"submit"\,"created_at":"2016-03-16 20:27:29"\,"objectType":"Field"\,"objectDomain":"fields"\,"editActive":false\,"processing_label":"Processing"\,"wrapper_class":""\,"element_class":""\,"order":5\,"container_class":""\,"id":5}]\,"formContentData":["name"\,"email_1484329755313"\,"message"\,"spam_1484329757987"\,"send"]\,"ninjaForms":"Ninja Forms"\,"changeEmailErrorMsg":"Please enter a valid email address!"\,"confirmFieldErrorMsg":"These fields must match!"\,"fieldNumberNumMinError":"Number Min Error"\,"fieldNumberNumMaxError":"Number Max Error"\,"fieldNumberIncrementBy":"Please increment by "\,"fieldTextareaRTEInsertLink":"Insert Link"\,"fieldTextareaRTEInsertMedia":"Insert Media"\,"fieldTextareaRTESelectAFile":"Select a file"\,"formErrorsCorrectErrors":"Please correct errors before submitting this form."\,"validateRequiredField":"This is a required field."\,"honeypotHoneypotError":"Honeypot Error"\,"fileUploadOldCodeFileUploadInProgress":"File Upload in Progress."\,"fileUploadOldCodeFileUpload":"FILE UPLOAD"\,"currencySymbol":"$"\,"fieldsMarkedRequired":"Fields marked with an * are required"\,"thousands_sep":"\,"\,"decimal_point":"."\,"currency_symbol":""\,"beforeForm":""\,"beforeFields":""\,"afterFields":""\,"afterForm":""};\n            form.fields = [{"objectType":"Field"\,"objectDomain":"fields"\,"editActive":false\,"order":999\,"type":"textbox"\,"label":"Name"\,"key":"name"\,"label_pos":"above"\,"required":1\,"input_limit_type":"characters"\,"input_limit_msg":"Character(s) left"\,"manual_key":false\,"placeholder":""\,"default":""\,"container_class":""\,"element_class":""\,"input_limit":""\,"disable_input":""\,"admin_label":""\,"help_text":""\,"desc_text":""\,"disable_browser_autocomplete":""\,"mask":""\,"custom_mask":""\,"id":12\,"beforeField":""\,"afterField":""\,"parentType":"textbox"\,"element_templates":["textbox"\,"input"]\,"old_classname":""\,"wrap_template":"wrap"}\,{"objectType":"Field"\,"objectDomain":"fields"\,"editActive":false\,"order":999\,"type":"email"\,"label":"Email"\,"key":"email_1484329755313"\,"label_pos":"above"\,"required":1\,"default":""\,"placeholder":""\,"container_class":""\,"element_class":""\,"admin_label":""\,"help_text":""\,"desc_text":""\,"id":13\,"beforeField":""\,"afterField":""\,"parentType":"email"\,"element_templates":["email"\,"input"]\,"old_classname":""\,"wrap_template":"wrap"}\,{"objectType":"Field"\,"objectDomain":"fields"\,"editActive":false\,"order":999\,"type":"textarea"\,"label":"Message"\,"key":"message"\,"label_pos":"above"\,"required":1\,"input_limit_type":"characters"\,"input_limit_msg":"Character(s) left"\,"manual_key":false\,"placeholder":""\,"default":""\,"container_class":""\,"element_class":""\,"input_limit":""\,"disable_input":""\,"admin_label":""\,"help_text":""\,"desc_text":""\,"disable_browser_autocomplete":""\,"textarea_rte":""\,"disable_rte_mobile":""\,"textarea_media":""\,"id":14\,"beforeField":""\,"afterField":""\,"parentType":"textarea"\,"element_templates":["textarea"\,"input"]\,"old_classname":""\,"wrap_template":"wrap"}\,{"objectType":"Field"\,"objectDomain":"fields"\,"editActive":false\,"order":999\,"type":"spam"\,"label":"What is thirteen minus 6?"\,"key":"spam_1484329757987"\,"label_pos":"above"\,"required":1\,"input_limit_type":"characters"\,"input_limit_msg":"Character(s) left"\,"manual_key":true\,"spam_answer":7\,"placeholder":""\,"default":""\,"container_class":""\,"element_class":""\,"input_limit":""\,"disable_input":""\,"admin_label":""\,"help_text":""\,"desc_text":""\,"id":15\,"beforeField":""\,"afterField":""\,"parentType":"spam"\,"element_templates":["textbox"\,"input"]\,"old_classname":""\,"wrap_template":"wrap"}\,{"objectType":"Field"\,"objectDomain":"fields"\,"editActive":false\,"order":999\,"type":"submit"\,"label":"Send"\,"processing_label":"Sending ..."\,"key":"send"\,"container_class":""\,"element_class":""\,"id":16\,"beforeField":""\,"afterField":""\,"label_pos":"above"\,"parentType":"textbox"\,"element_templates":["submit"\,"button"\,"input"]\,"old_classname":""\,"wrap_template":"wrap-no-label"}];\n\n            /* Add Form Data to nfForms object */\n            nfForms.push( form );\n        \n\n        \n
URL:http://coworkstreet.com/event/entrepreneurship-essentials-free-workshop/
LOCATION:CoWork Street\, 227-229 Market St. Suite B & C\, Camden\, NJ\, 08102\, United States
END:VEVENT
END:VCALENDAR