BEGIN:VCALENDAR
VERSION:2.0
PRODID:-//CoWork Street - ECPv4.6.22.1//NONSGML v1.0//EN
CALSCALE:GREGORIAN
METHOD:PUBLISH
X-WR-CALNAME:CoWork Street
X-ORIGINAL-URL:http://coworkstreet.com
X-WR-CALDESC:Events for CoWork Street
BEGIN:VEVENT
DTSTART;TZID=America/Chicago:20200113T100000
DTEND;TZID=America/Chicago:20200113T120000
DTSTAMP:20260423T121603
CREATED:20200109T020909Z
LAST-MODIFIED:20200109T020909Z
UID:1000-1578909600-1578916800@coworkstreet.com
SUMMARY:SBA Information Session for Micro Business Loan Program
DESCRIPTION:Informational Session with Rutgers SBA on “Business Plan” development and services needed for Micro Business Loan Application.  Register or email: rhicks@coworkstreet.com. \n  \n
URL:http://coworkstreet.com/event/sba-information-session-for-micro-business-loan-program/
LOCATION:CoWork Street\, 227-229 Market St. Suite B & C\, Camden\, NJ\, 08102\, United States
END:VEVENT
END:VCALENDAR