BEGIN:VCALENDAR
VERSION:2.0
PRODID:-//CoWork Street - ECPv4.6.22.1//NONSGML v1.0//EN
CALSCALE:GREGORIAN
METHOD:PUBLISH
X-WR-CALNAME:CoWork Street
X-ORIGINAL-URL:http://coworkstreet.com
X-WR-CALDESC:Events for CoWork Street
BEGIN:VEVENT
DTSTART;TZID=America/Chicago:20180922T110000
DTEND;TZID=America/Chicago:20180922T123000
DTSTAMP:20260424T144300
CREATED:20180906T175157Z
LAST-MODIFIED:20180906T175545Z
UID:346-1537614000-1537619400@coworkstreet.com
SUMMARY:Real Estate Workshop
DESCRIPTION:Learn about investment tips and how to make sure your credit is ready to make the investment plunge. \n
URL:http://coworkstreet.com/event/real-estate-workshop-2/
LOCATION:CoWork Street\, 227-229 Market St. Suite B & C\, Camden\, NJ\, 08102\, United States
ORGANIZER;CN="Rose%20Mosley":MAILTO:rosemosley10@gmail.com
END:VEVENT
END:VCALENDAR