BEGIN:VCALENDAR
VERSION:2.0
PRODID:-//CoWork Street - ECPv4.6.22.1//NONSGML v1.0//EN
CALSCALE:GREGORIAN
METHOD:PUBLISH
X-WR-CALNAME:CoWork Street
X-ORIGINAL-URL:http://coworkstreet.com
X-WR-CALDESC:Events for CoWork Street
BEGIN:VEVENT
DTSTART;TZID=America/Chicago:20181009T183000
DTEND;TZID=America/Chicago:20181009T200000
DTSTAMP:20260424T133803
CREATED:20180906T175521Z
LAST-MODIFIED:20180906T175521Z
UID:348-1539109800-1539115200@coworkstreet.com
SUMMARY:Real Estate Workshop
DESCRIPTION:Home Ownership and Investment Tips \n
URL:http://coworkstreet.com/event/real-estate-workshop-3/
ORGANIZER;CN="Rose%20Mosley":MAILTO:rosemosley10@gmail.com
END:VEVENT
END:VCALENDAR