BEGIN:VCALENDAR
VERSION:2.0
PRODID:-//CoWork Street - ECPv4.6.22.1//NONSGML v1.0//EN
CALSCALE:GREGORIAN
METHOD:PUBLISH
X-WR-CALNAME:CoWork Street
X-ORIGINAL-URL:http://coworkstreet.com
X-WR-CALDESC:Events for CoWork Street
BEGIN:VEVENT
DTSTART;TZID=America/Chicago:20181016T180000
DTEND;TZID=America/Chicago:20181016T200000
DTSTAMP:20260424T135120
CREATED:20180906T184256Z
LAST-MODIFIED:20181003T013400Z
UID:365-1539712800-1539720000@coworkstreet.com
SUMMARY:Entrepreneurial Readiness Workshop Series: WS#1 Bookkeeping Begins Before Day 1
DESCRIPTION:Starting Your Business – Bookkeeping Begins Before Day 1 \nThe first workshop is all about setting up the correct accounting process for your business. Practical application for pre-opening as well as companies already in business.      https://bit.ly/2Qn19QV \nEntrepreneurial Readiness 360 is designed for aspiring\, new and early growth Influencers and Small Businesses looking for hands-on\, in-depth and interactive instruction to scale up their business.  Each session of the workshop series will focus on a different aspect of the business start-up\, early stage or scale-up process\, and participants may choose to attend one\, multiple\, or all sessions\, depending on individual needs and interests.       \nWorkshop #1    \n\nWhat Should You Know In Setting up Your Business Finances\nTax Advantages of Different Business Structures\nHow Legal Structure Impacts Your Finances\nTracking Finances Ahead of Opening the Business\nWhat Are Your Potential Write-off\n\nInstructor: \nMrs. Bishop is a certified public accountant\, licensed in New Jersey and Pennsylvania\, and certified by the American Institute of Certified Public Accountants with an accreditation in business valuation.  Since 2008 she is the managing shareholder in the certified public accounting and litigation consulting firm of Bishop & Bishop\, P.C. located in Moorestown\, New Jersey. She holds her Master of Science in Accounting and Financial Management from the University of Maryland University College (2007) and is an honors graduate of Rider University with a Bachelor of Science in Commerce – Accounting (1984).  From 1998 to 2007 Mrs. Bishop was a shareholder with Gold\, Meltzer\, Plasky & Wise (n/k/a Gold Gerstein Group\, LLC). \n
URL:http://coworkstreet.com/event/entrepreneurial-readiness-360-workshop-series-ws2-small-business-finance-fundamentals/
LOCATION:CoWork Street\, 227-229 Market St. Suite B & C\, Camden\, NJ\, 08102\, United States
ORGANIZER;CN="RHC%20Consulting%20Group%2C%20LLC":MAILTO:rhicks@rhcconsultgroup.com
END:VEVENT
END:VCALENDAR