BEGIN:VCALENDAR
VERSION:2.0
PRODID:-//CoWork Street - ECPv4.6.22.1//NONSGML v1.0//EN
CALSCALE:GREGORIAN
METHOD:PUBLISH
X-WR-CALNAME:CoWork Street
X-ORIGINAL-URL:http://coworkstreet.com
X-WR-CALDESC:Events for CoWork Street
BEGIN:VEVENT
DTSTART;TZID=America/Chicago:20181113T180000
DTEND;TZID=America/Chicago:20181113T200000
DTSTAMP:20260424T114209
CREATED:20180906T201901Z
LAST-MODIFIED:20181025T205520Z
UID:408-1542132000-1542139200@coworkstreet.com
SUMMARY:Entrepreneurial Readiness 360 Workshop Series: WS#8 Bookkeeping for Non-Profits
DESCRIPTION:Entrepreneurial Readiness 360 is designed for aspiring\, new and early growth Influencers and Small Businesses looking for hands-on\, in-depth and interactive instruction to scale up their business. \nEach session of the workshop series will focus on a different aspect of the business start-up\, early stage or scale-up process\, and participants may choose to attend one\, multiple\, or all sessions\, depending on individual needs and interests. The workshops are applicable to all business ventures regardless of industry and will meet your business readiness needs.  Register via Eventbrite:  https://bit.ly/2z79fGq \nInstructor:  Aletta Parris-Olday\, AOK Business Services\, LLC                                                                                     Workshop #8: Business Bookkeeping For Non-Profit Organizations \n\nSetting up Non-Profit Books\nIs Your Organization Compliant?  Compliance\, Taxation & Credit\nBoard Creation and Development\nQuality Assurance\n\n
URL:http://coworkstreet.com/event/entrepreneurial-readiness-360-workshop-series-ws9-business-bookkeeping/
LOCATION:CoWork Street\, 227-229 Market St. Suite B & C\, Camden\, NJ\, 08102\, United States
ORGANIZER;CN="RHC%20Consulting%20Group%2C%20LLC":MAILTO:rhicks@rhcconsultgroup.com
END:VEVENT
BEGIN:VEVENT
DTSTART;TZID=America/Chicago:20181113T183000
DTEND;TZID=America/Chicago:20181113T200000
DTSTAMP:20260424T114209
CREATED:20180906T180220Z
LAST-MODIFIED:20180906T180220Z
UID:354-1542133800-1542139200@coworkstreet.com
SUMMARY:Real Estate Workshop
DESCRIPTION:
URL:http://coworkstreet.com/event/real-estate-workshop-6/
LOCATION:CoWork Street\, 227-229 Market St. Suite B & C\, Camden\, NJ\, 08102\, United States
ORGANIZER;CN="Rose%20Mosley":MAILTO:rosemosley10@gmail.com
END:VEVENT
END:VCALENDAR