BEGIN:VCALENDAR
VERSION:2.0
PRODID:-//CoWork Street - ECPv4.6.22.1//NONSGML v1.0//EN
CALSCALE:GREGORIAN
METHOD:PUBLISH
X-WR-CALNAME:CoWork Street
X-ORIGINAL-URL:http://coworkstreet.com
X-WR-CALDESC:Events for CoWork Street
BEGIN:VEVENT
DTSTART;TZID=America/Chicago:20190520T113000
DTEND;TZID=America/Chicago:20190520T130000
DTSTAMP:20260423T231028
CREATED:20190509T143550Z
LAST-MODIFIED:20190509T151127Z
UID:703-1558351800-1558357200@coworkstreet.com
SUMMARY:HR  MONDAYS
DESCRIPTION:Stop by for human resources advice and coffee.  Each session is 15 minutes.  Schedule a time http://coworkstreet.com/event/hr-mondays/ \n  \n
URL:http://coworkstreet.com/event/hr-mondays-2/
LOCATION:CoWork Street\, 227-229 Market St. Suite B & C\, Camden\, NJ\, 08102\, United States
ORGANIZER;CN="RHC%20Consulting%20Group%2C%20LLC":MAILTO:rhicks@rhcconsultgroup.com
END:VEVENT
END:VCALENDAR