BEGIN:VCALENDAR
VERSION:2.0
PRODID:-//CoWork Street - ECPv4.6.22.1//NONSGML v1.0//EN
CALSCALE:GREGORIAN
METHOD:PUBLISH
X-WR-CALNAME:CoWork Street
X-ORIGINAL-URL:http://coworkstreet.com
X-WR-CALDESC:Events for CoWork Street
BEGIN:VEVENT
DTSTART;TZID=America/Chicago:20190915T130000
DTEND;TZID=America/Chicago:20190915T150000
DTSTAMP:20260423T174406
CREATED:20190906T163152Z
LAST-MODIFIED:20190906T163152Z
UID:919-1568552400-1568559600@coworkstreet.com
SUMMARY:Book Club
DESCRIPTION:Book Club resumes Sunday\, September 15th from 1:00pm – 3:00 pm \n
URL:http://coworkstreet.com/event/book-club/
LOCATION:CoWork Street\, 227-229 Market St. Suite B & C\, Camden\, NJ\, 08102\, United States
END:VEVENT
END:VCALENDAR