BEGIN:VCALENDAR
VERSION:2.0
PRODID:-//CoWork Street - ECPv4.6.22.1//NONSGML v1.0//EN
CALSCALE:GREGORIAN
METHOD:PUBLISH
X-WR-CALNAME:CoWork Street
X-ORIGINAL-URL:http://coworkstreet.com
X-WR-CALDESC:Events for CoWork Street
BEGIN:VEVENT
DTSTART;TZID=America/Chicago:20191001T180000
DTEND;TZID=America/Chicago:20191001T210000
DTSTAMP:20260423T163144
CREATED:20190923T234430Z
LAST-MODIFIED:20190923T234430Z
UID:976-1569952800-1569963600@coworkstreet.com
SUMMARY:Minority for Medical Marijuana Licensing Bootcamp
DESCRIPTION:Join M4MM at CoWork Street for the Informational Kickoff Meeting. \n
URL:http://coworkstreet.com/event/minority-for-medical-marijuana-licensing-bootcamp/
LOCATION:CoWork Street\, 227-229 Market St. Suite B & C\, Camden\, NJ\, 08102\, United States
END:VEVENT
END:VCALENDAR