BEGIN:VCALENDAR
VERSION:2.0
PRODID:-//CoWork Street - ECPv4.6.22.1//NONSGML v1.0//EN
CALSCALE:GREGORIAN
METHOD:PUBLISH
X-WR-CALNAME:CoWork Street
X-ORIGINAL-URL:http://coworkstreet.com
X-WR-CALDESC:Events for CoWork Street
BEGIN:VEVENT
DTSTART;TZID=America/Chicago:20191021T113000
DTEND;TZID=America/Chicago:20191021T130000
DTSTAMP:20260423T164238
CREATED:20190924T001414Z
LAST-MODIFIED:20190924T001414Z
UID:987-1571657400-1571662800@coworkstreet.com
SUMMARY:HR Monday
DESCRIPTION:Ask your HR questions to a human resources professional. \n
URL:http://coworkstreet.com/event/hr-monday/
LOCATION:CoWork Street\, 227-229 Market St. Suite B & C\, Camden\, NJ\, 08102\, United States
ORGANIZER;CN="RHC%20Consulting%20Group%2C%20LLC":MAILTO:rhicks@rhcconsultgroup.com
END:VEVENT
END:VCALENDAR